BEGIN:VCALENDAR
VERSION:2.0
PRODID:-//Antisyphon Training - ECPv6.15.20//NONSGML v1.0//EN
CALSCALE:GREGORIAN
METHOD:PUBLISH
X-ORIGINAL-URL:https://www.antisyphontraining.com
X-WR-CALDESC:Events for Antisyphon Training
REFRESH-INTERVAL;VALUE=DURATION:PT1H
X-Robots-Tag:noindex
X-PUBLISHED-TTL:PT1H
BEGIN:VTIMEZONE
TZID:America/New_York
BEGIN:DAYLIGHT
TZOFFSETFROM:-0500
TZOFFSETTO:-0400
TZNAME:EDT
DTSTART:20240310T070000
END:DAYLIGHT
BEGIN:STANDARD
TZOFFSETFROM:-0400
TZOFFSETTO:-0500
TZNAME:EST
DTSTART:20241103T060000
END:STANDARD
BEGIN:DAYLIGHT
TZOFFSETFROM:-0500
TZOFFSETTO:-0400
TZNAME:EDT
DTSTART:20250309T070000
END:DAYLIGHT
BEGIN:STANDARD
TZOFFSETFROM:-0400
TZOFFSETTO:-0500
TZNAME:EST
DTSTART:20251102T060000
END:STANDARD
BEGIN:DAYLIGHT
TZOFFSETFROM:-0500
TZOFFSETTO:-0400
TZNAME:EDT
DTSTART:20260308T070000
END:DAYLIGHT
BEGIN:STANDARD
TZOFFSETFROM:-0400
TZOFFSETTO:-0500
TZNAME:EST
DTSTART:20261101T060000
END:STANDARD
END:VTIMEZONE
BEGIN:VTIMEZONE
TZID:Europe/Warsaw
BEGIN:DAYLIGHT
TZOFFSETFROM:+0100
TZOFFSETTO:+0200
TZNAME:CEST
DTSTART:20240331T010000
END:DAYLIGHT
BEGIN:STANDARD
TZOFFSETFROM:+0200
TZOFFSETTO:+0100
TZNAME:CET
DTSTART:20241027T010000
END:STANDARD
BEGIN:DAYLIGHT
TZOFFSETFROM:+0100
TZOFFSETTO:+0200
TZNAME:CEST
DTSTART:20250330T010000
END:DAYLIGHT
BEGIN:STANDARD
TZOFFSETFROM:+0200
TZOFFSETTO:+0100
TZNAME:CET
DTSTART:20251026T010000
END:STANDARD
BEGIN:DAYLIGHT
TZOFFSETFROM:+0100
TZOFFSETTO:+0200
TZNAME:CEST
DTSTART:20260329T010000
END:DAYLIGHT
BEGIN:STANDARD
TZOFFSETFROM:+0200
TZOFFSETTO:+0100
TZNAME:CET
DTSTART:20261025T010000
END:STANDARD
END:VTIMEZONE
BEGIN:VEVENT
DTSTART;TZID=America/New_York:20251202T100000
DTEND;TZID=America/New_York:20251203T180000
DTSTAMP:20260422T012056
CREATED:20251107T161419Z
LAST-MODIFIED:20251202T185957Z
UID:10000854-1764669600-1764784800@www.antisyphontraining.com
SUMMARY:Getting Started in Security with BHIS and MITRE ATT&CK with John Strand
DESCRIPTION:
URL:https://www.antisyphontraining.com/event/getting-started-in-security-with-bhis-and-mitre-attck-with-john-strand-6/
CATEGORIES:Blue Team,Fundamentals,Mitre Att&ck,Pay What You Can
END:VEVENT
BEGIN:VEVENT
DTSTART;TZID=America/New_York:20251121T113000
DTEND;TZID=America/New_York:20251121T160000
DTSTAMP:20260422T012056
CREATED:20250923T161221Z
LAST-MODIFIED:20250923T161221Z
UID:10000826-1763724600-1763740800@www.antisyphontraining.com
SUMMARY:Workshop: AI Foundation: Cyber Security Workflow Optimization using AI Technology with Joff Thyer and Derek Banks
DESCRIPTION:
URL:https://www.antisyphontraining.com/event/workshop-ai-foundation-cyber-security-workflow-optimization-using-ai-technology-with-joff-thyer-and-derek-banks-2/
CATEGORIES:Pay What You Can,Workshop
END:VEVENT
BEGIN:VEVENT
DTSTART;TZID=America/New_York:20251120T113000
DTEND;TZID=America/New_York:20251120T160000
DTSTAMP:20260422T012056
CREATED:20251030T152338Z
LAST-MODIFIED:20251030T161412Z
UID:10000832-1763638200-1763654400@www.antisyphontraining.com
SUMMARY:Workshop: An Introduction to Cryptography with Doc Blackburn
DESCRIPTION:
URL:https://www.antisyphontraining.com/event/workshop-an-introduction-to-cryptography-with-doc-blackburn/
CATEGORIES:Cryptography,Data Security,Pay What You Can,Workshop
END:VEVENT
BEGIN:VEVENT
DTSTART;TZID=America/New_York:20251111T100000
DTEND;TZID=America/New_York:20251111T160000
DTSTAMP:20260422T012056
CREATED:20250918T151331Z
LAST-MODIFIED:20250918T151331Z
UID:10000824-1762855200-1762876800@www.antisyphontraining.com
SUMMARY:Workshop: Job Hunt Like a Hacker 2025 Edition with Jason Blanchard
DESCRIPTION:
URL:https://www.antisyphontraining.com/event/workshop-job-hunt-like-a-hacker-2025-edition-with-jason-blanchard-2/
CATEGORIES:Pay What You Can,Workshop
END:VEVENT
BEGIN:VEVENT
DTSTART;TZID=America/New_York:20251107T113000
DTEND;TZID=America/New_York:20251107T160000
DTSTAMP:20260422T012056
CREATED:20251015T202104Z
LAST-MODIFIED:20251015T202104Z
UID:10000829-1762515000-1762531200@www.antisyphontraining.com
SUMMARY:Workshop: Practical Mobile App Attacks by Example with Abraham Aranguren
DESCRIPTION:
URL:https://www.antisyphontraining.com/event/workshop-practical-mobile-app-attacks-by-example-with-abraham-aranguren/
CATEGORIES:Mobile App,Pay What You Can,Pentesting,Workshop
END:VEVENT
BEGIN:VEVENT
DTSTART;TZID=America/New_York:20251020T110000
DTEND;TZID=America/New_York:20251023T160000
DTSTAMP:20260422T012056
CREATED:20250325T214020Z
LAST-MODIFIED:20250905T173353Z
UID:10000759-1760958000-1761235200@www.antisyphontraining.com
SUMMARY:SOC Core Skills with John Strand
DESCRIPTION: \n \n \n \n \n \n \n 
URL:https://www.antisyphontraining.com/event/soc-core-skills-with-john-strand-3/
CATEGORIES:Blue Team,Fundamentals,Pay What You Can,SOC
END:VEVENT
BEGIN:VEVENT
DTSTART;TZID=America/New_York:20251017T110000
DTEND;TZID=America/New_York:20251017T160000
DTSTAMP:20260422T012056
CREATED:20250515T152549Z
LAST-MODIFIED:20250730T154548Z
UID:10000788-1760698800-1760716800@www.antisyphontraining.com
SUMMARY:Workshop: Investigating M365 Business Email Compromise with Patterson Cake
DESCRIPTION:
URL:https://www.antisyphontraining.com/event/workshop-investigating-m365-business-email-compromise-with-patterson-cake-2/
CATEGORIES:Forensics,Incident Response,Microsoft Windows,Pay What You Can,Workshop
END:VEVENT
BEGIN:VEVENT
DTSTART;TZID=America/New_York:20250929T093000
DTEND;TZID=America/New_York:20250930T180000
DTSTAMP:20260422T012056
CREATED:20250813T192658Z
LAST-MODIFIED:20250813T192926Z
UID:10000820-1759138200-1759255200@www.antisyphontraining.com
SUMMARY:Professionally Evil Application Security: From Mapping to Exploitation with Jordan Bonagura
DESCRIPTION:
URL:https://www.antisyphontraining.com/event/professionally-evil-application-security-from-mapping-to-exploitation-with-jordan-bonagura-2/
CATEGORIES:Pay What You Can,Red Team
END:VEVENT
BEGIN:VEVENT
DTSTART;TZID=America/New_York:20250926T113000
DTEND;TZID=America/New_York:20250926T160000
DTSTAMP:20260422T012056
CREATED:20250529T162201Z
LAST-MODIFIED:20250812T162605Z
UID:10000793-1758886200-1758902400@www.antisyphontraining.com
SUMMARY:Workshop: Tactical Vulnerability Assessment with Matt Toussain
DESCRIPTION:
URL:https://www.antisyphontraining.com/event/workshop-tactical-vulnerability-assessment-with-matt-toussain-2/
CATEGORIES:Pay What You Can,Workshop
END:VEVENT
BEGIN:VEVENT
DTSTART;TZID=America/New_York:20250925T113000
DTEND;TZID=America/New_York:20250925T160000
DTSTAMP:20260422T012056
CREATED:20250730T174911Z
LAST-MODIFIED:20250812T162436Z
UID:10000813-1758799800-1758816000@www.antisyphontraining.com
SUMMARY:Workshop: Hacking AI-LLM Applications with Brian Fehrman\, Joff Thyer and Derek Banks
DESCRIPTION:
URL:https://www.antisyphontraining.com/event/workshop-hacking-ai-llm-applications-with-brian-fehrman-joff-thyer-and-derek-banks/
CATEGORIES:Pay What You Can,Workshop
END:VEVENT
BEGIN:VEVENT
DTSTART;TZID=America/New_York:20250919T113000
DTEND;TZID=America/New_York:20250919T160000
DTSTAMP:20260422T012056
CREATED:20250604T181940Z
LAST-MODIFIED:20250812T162223Z
UID:10000795-1758281400-1758297600@www.antisyphontraining.com
SUMMARY:Workshop: The OWASP API Security Top Ten 2023 with Tanya Janca
DESCRIPTION:
URL:https://www.antisyphontraining.com/event/workshop-the-owasp-api-security-top-ten-2023-with-tanya-janca/
CATEGORIES:API,OWASP,Pay What You Can,Workshop
END:VEVENT
BEGIN:VEVENT
DTSTART;TZID=America/New_York:20250918T113000
DTEND;TZID=America/New_York:20250918T160000
DTSTAMP:20260422T012056
CREATED:20250508T154059Z
LAST-MODIFIED:20250825T165853Z
UID:10000786-1758195000-1758211200@www.antisyphontraining.com
SUMMARY:Workshop: Build a Multi-Modal C2 Covert Channel in Golang with Faan Rossouw
DESCRIPTION:
URL:https://www.antisyphontraining.com/event/workshop-build-a-multi-modal-c2-covert-channel-in-golang-with-faan-rossouw/
CATEGORIES:Pay What You Can,Workshop
END:VEVENT
BEGIN:VEVENT
DTSTART;TZID=America/New_York:20250916T093000
DTEND;TZID=America/New_York:20250916T160000
DTSTAMP:20260422T012056
CREATED:20250812T165425Z
LAST-MODIFIED:20250813T164322Z
UID:10000819-1758015000-1758038400@www.antisyphontraining.com
SUMMARY:Workshop: Job Hunt Like a Hacker 2025 Edition with Jason Blanchard
DESCRIPTION:
URL:https://www.antisyphontraining.com/event/workshop-job-hunt-like-a-hacker-2025-edition-with-jason-blanchard/
CATEGORIES:Pay What You Can,Workshop
END:VEVENT
BEGIN:VEVENT
DTSTART;TZID=America/New_York:20250916T090000
DTEND;TZID=America/New_York:20250917T180000
DTSTAMP:20260422T012056
CREATED:20250402T165605Z
LAST-MODIFIED:20250909T215012Z
UID:10000764-1758013200-1758132000@www.antisyphontraining.com
SUMMARY:Professionally Evil ICS & OT Fundamentals with Giovanni Cofre
DESCRIPTION:
URL:https://www.antisyphontraining.com/event/professionally-evil-ics-ot-fundamentals-with-giovanni-cofre-2/
CATEGORIES:Pay What You Can,Red Team
END:VEVENT
BEGIN:VEVENT
DTSTART;TZID=America/New_York:20250912T110000
DTEND;TZID=America/New_York:20250912T160000
DTSTAMP:20260422T012056
CREATED:20250509T165930Z
LAST-MODIFIED:20250730T154205Z
UID:10000787-1757674800-1757692800@www.antisyphontraining.com
SUMMARY:Workshop: Exploiting AI with Ben Bowman
DESCRIPTION:
URL:https://www.antisyphontraining.com/event/workshop-exploiting-ai-with-ben-bowman-2/
CATEGORIES:Pay What You Can,Workshop
END:VEVENT
BEGIN:VEVENT
DTSTART;TZID=America/New_York:20250902T140000
DTEND;TZID=America/New_York:20250907T220000
DTSTAMP:20260422T012056
CREATED:20241105T210357Z
LAST-MODIFIED:20250905T170829Z
UID:10000671-1756821600-1757282400@www.antisyphontraining.com
SUMMARY:Professionally Evil CISSP Mentorship Program
DESCRIPTION:
URL:https://www.antisyphontraining.com/event/professionally-evil-cissp-mentorship-program-2/
CATEGORIES:CISSP Training,Pay What You Can,SecureIdeas
END:VEVENT
BEGIN:VEVENT
DTSTART;TZID=America/New_York:20250822T110000
DTEND;TZID=America/New_York:20250822T160000
DTSTAMP:20260422T012056
CREATED:20250715T213003Z
LAST-MODIFIED:20250722T173038Z
UID:10000805-1755860400-1755878400@www.antisyphontraining.com
SUMMARY:Workshop: Telemetry to Tactics: A Hands-On Detection Engineering Workshop with Hal Denton
DESCRIPTION:
URL:https://www.antisyphontraining.com/event/workshop-from-binaries-to-detections-yara-for-file-forensics-and-threat-hunting-with-hal-denton/
CATEGORIES:Pay What You Can,Threat Hunting,Workshop
END:VEVENT
BEGIN:VEVENT
DTSTART;TZID=Europe/Warsaw:20250820T123000
DTEND;TZID=Europe/Warsaw:20250820T170000
DTSTAMP:20260422T012056
CREATED:20250722T194403Z
LAST-MODIFIED:20250806T144604Z
UID:10000811-1755693000-1755709200@www.antisyphontraining.com
SUMMARY:Workshop: Introduction to IP Network with John Strand
DESCRIPTION:
URL:https://www.antisyphontraining.com/event/workshop-introduction-to-ip-network-with-john-strand/
CATEGORIES:Pay What You Can,Workshop
END:VEVENT
BEGIN:VEVENT
DTSTART;TZID=Europe/Warsaw:20250819T123000
DTEND;TZID=Europe/Warsaw:20250819T150000
DTSTAMP:20260422T012056
CREATED:20250722T191015Z
LAST-MODIFIED:20250804T162040Z
UID:10000810-1755606600-1755615600@www.antisyphontraining.com
SUMMARY:Workshop: Intro to Virtualization with Daniel Lowrie
DESCRIPTION:
URL:https://www.antisyphontraining.com/event/workshop-intro-to-virtualization-with-daniel-lowrie/
CATEGORIES:Pay What You Can,Workshop
END:VEVENT
BEGIN:VEVENT
DTSTART;TZID=Europe/Warsaw:20250819T083000
DTEND;TZID=Europe/Warsaw:20250819T130000
DTSTAMP:20260422T012056
CREATED:20250722T180526Z
LAST-MODIFIED:20250804T162007Z
UID:10000809-1755592200-1755608400@www.antisyphontraining.com
SUMMARY:Workshop: Practical IT Fundamentals with Zach Hill
DESCRIPTION:
URL:https://www.antisyphontraining.com/event/workshop-practical-it-fundamentals-with-zach-hill/
CATEGORIES:Fundamentals,Pay What You Can,Workshop
END:VEVENT
BEGIN:VEVENT
DTSTART;TZID=America/New_York:20250818T110000
DTEND;TZID=America/New_York:20250821T160000
DTSTAMP:20260422T012056
CREATED:20250709T191317Z
LAST-MODIFIED:20250709T191317Z
UID:10000802-1755514800-1755792000@www.antisyphontraining.com
SUMMARY:Getting Started in Security with BHIS and MITRE ATT&CK with John Strand
DESCRIPTION:
URL:https://www.antisyphontraining.com/event/getting-started-in-security-with-bhis-and-mitre-attck-with-john-strand-5/
CATEGORIES:Blue Team,Fundamentals,Mitre Att&ck,Pay What You Can
END:VEVENT
BEGIN:VEVENT
DTSTART;TZID=America/New_York:20250815T113000
DTEND;TZID=America/New_York:20250815T160000
DTSTAMP:20260422T012056
CREATED:20250715T181717Z
LAST-MODIFIED:20250801T145346Z
UID:10000806-1755257400-1755273600@www.antisyphontraining.com
SUMMARY:Workshop: How to Befriend and Bedazzle Online Threat Actors with Tim Pappa
DESCRIPTION:
URL:https://www.antisyphontraining.com/event/workshop-how-to-befriend-and-bedazzle-online-threat-actors-with-tim-pappa/
CATEGORIES:Pay What You Can,Workshop
END:VEVENT
BEGIN:VEVENT
DTSTART;TZID=America/New_York:20250814T113000
DTEND;TZID=America/New_York:20250814T160000
DTSTAMP:20260422T012056
CREATED:20250715T221217Z
LAST-MODIFIED:20250801T145001Z
UID:10000808-1755171000-1755187200@www.antisyphontraining.com
SUMMARY:Workshop: The Hitchhikers Guide To Social Engineering with Cameron Cartier
DESCRIPTION:
URL:https://www.antisyphontraining.com/event/workshop-the-hitchhikers-guide-to-social-engineering-with-cameron-cartier/
CATEGORIES:Pay What You Can,Workshop
END:VEVENT
BEGIN:VEVENT
DTSTART;TZID=America/New_York:20250731T110000
DTEND;TZID=America/New_York:20250731T160000
DTSTAMP:20260422T012056
CREATED:20250709T193308Z
LAST-MODIFIED:20250714T172759Z
UID:10000803-1753959600-1753977600@www.antisyphontraining.com
SUMMARY:Workshop: Foundational Application Security Training with Bill McCauley
DESCRIPTION:
URL:https://www.antisyphontraining.com/event/workshop-foundational-application-security-training-with-bill-mccauley-2/
CATEGORIES:Blue Team,Pay What You Can,Workshop
END:VEVENT
BEGIN:VEVENT
DTSTART;TZID=America/New_York:20250725T110000
DTEND;TZID=America/New_York:20250725T160000
DTSTAMP:20260422T012056
CREATED:20250606T204551Z
LAST-MODIFIED:20250714T182536Z
UID:10000796-1753441200-1753459200@www.antisyphontraining.com
SUMMARY:Workshop: Foundations of Network Forensics and Analysis with Troy Wojewoda
DESCRIPTION:
URL:https://www.antisyphontraining.com/event/workshop-foundations-of-network-forensics-and-analysis-with-troy-wojewoda/
CATEGORIES:Pay What You Can,Workshop
END:VEVENT
BEGIN:VEVENT
DTSTART;TZID=America/New_York:20250718T110000
DTEND;TZID=America/New_York:20250718T160000
DTSTAMP:20260422T012056
CREATED:20250710T181529Z
LAST-MODIFIED:20250714T195438Z
UID:10000804-1752836400-1752854400@www.antisyphontraining.com
SUMMARY:Workshop: SOC Detection Engineering Crash Course with Hayden Covington
DESCRIPTION:
URL:https://www.antisyphontraining.com/event/workshop-soc-detection-engineering-crash-course-with-hayden-covington-2/
CATEGORIES:Blue Team,Pay What You Can,SOC,Workshop
END:VEVENT
BEGIN:VEVENT
DTSTART;TZID=America/New_York:20250711T110000
DTEND;TZID=America/New_York:20250711T160000
DTSTAMP:20260422T012056
CREATED:20250402T160336Z
LAST-MODIFIED:20250515T155057Z
UID:10000761-1752231600-1752249600@www.antisyphontraining.com
SUMMARY:Workshop: Introduction to Cloud Security with Beau Bullock
DESCRIPTION:
URL:https://www.antisyphontraining.com/event/workshop-introduction-to-cloud-security-with-beau-bullock-2/
CATEGORIES:Cloud,Pay What You Can,Workshop
END:VEVENT
BEGIN:VEVENT
DTSTART;TZID=America/New_York:20250710T110000
DTEND;TZID=America/New_York:20250710T160000
DTSTAMP:20260422T012056
CREATED:20250528T210946Z
LAST-MODIFIED:20250529T135208Z
UID:10000791-1752145200-1752163200@www.antisyphontraining.com
SUMMARY:Workshop: AI Foundation: Cyber Security Workflow Optimization using AI Technology with Joff Thyer and Derek Banks
DESCRIPTION:
URL:https://www.antisyphontraining.com/event/workshop-ai-foundation-cyber-security-workflow-optimization-using-ai-technology-with-joff-thyer-and-derek-banks/
CATEGORIES:Pay What You Can,Workshop
END:VEVENT
BEGIN:VEVENT
DTSTART;TZID=America/New_York:20250708T090000
DTEND;TZID=America/New_York:20250709T160000
DTSTAMP:20260422T012056
CREATED:20250604T171332Z
LAST-MODIFIED:20250604T171332Z
UID:10000794-1751965200-1752076800@www.antisyphontraining.com
SUMMARY:Professionally Evil API Testing: A Practical Course for Beginners with Jennifer Shannon
DESCRIPTION:
URL:https://www.antisyphontraining.com/event/professionally-evil-api-testing-a-practical-course-for-beginners-with-jennifer-shannon-4/
CATEGORIES:API,Pay What You Can,PEAT,SecureIdeas,Webapp
END:VEVENT
BEGIN:VEVENT
DTSTART;TZID=America/New_York:20250616T110000
DTEND;TZID=America/New_York:20250619T160000
DTSTAMP:20260422T012056
CREATED:20250314T163654Z
LAST-MODIFIED:20250609T201120Z
UID:10000749-1750071600-1750348800@www.antisyphontraining.com
SUMMARY:Active Defense and Cyber Deception with John Strand
DESCRIPTION:
URL:https://www.antisyphontraining.com/event/active-defense-and-cyber-deception-with-john-strand-3/
CATEGORIES:Blue Team,Featured,Pay What You Can
END:VEVENT
END:VCALENDAR