BEGIN:VCALENDAR
VERSION:2.0
PRODID:-//Antisyphon Training - ECPv6.15.20//NONSGML v1.0//EN
CALSCALE:GREGORIAN
METHOD:PUBLISH
X-ORIGINAL-URL:https://www.antisyphontraining.com
X-WR-CALDESC:Events for Antisyphon Training
REFRESH-INTERVAL;VALUE=DURATION:PT1H
X-Robots-Tag:noindex
X-PUBLISHED-TTL:PT1H
BEGIN:VTIMEZONE
TZID:America/New_York
BEGIN:DAYLIGHT
TZOFFSETFROM:-0500
TZOFFSETTO:-0400
TZNAME:EDT
DTSTART:20250309T070000
END:DAYLIGHT
BEGIN:STANDARD
TZOFFSETFROM:-0400
TZOFFSETTO:-0500
TZNAME:EST
DTSTART:20251102T060000
END:STANDARD
BEGIN:DAYLIGHT
TZOFFSETFROM:-0500
TZOFFSETTO:-0400
TZNAME:EDT
DTSTART:20260308T070000
END:DAYLIGHT
BEGIN:STANDARD
TZOFFSETFROM:-0400
TZOFFSETTO:-0500
TZNAME:EST
DTSTART:20261101T060000
END:STANDARD
BEGIN:DAYLIGHT
TZOFFSETFROM:-0500
TZOFFSETTO:-0400
TZNAME:EDT
DTSTART:20270314T070000
END:DAYLIGHT
BEGIN:STANDARD
TZOFFSETFROM:-0400
TZOFFSETTO:-0500
TZNAME:EST
DTSTART:20271107T060000
END:STANDARD
END:VTIMEZONE
BEGIN:VEVENT
DTSTART;TZID=America/New_York:20260602T100000
DTEND;TZID=America/New_York:20260602T160000
DTSTAMP:20260425T103012
CREATED:20260318T160600Z
LAST-MODIFIED:20260318T160600Z
UID:10000934-1780394400-1780416000@www.antisyphontraining.com
SUMMARY:Workshop: Job Hunt Like a Hacker - 2026 Edition
DESCRIPTION:
URL:https://www.antisyphontraining.com/event/workshop-job-hunt-like-a-hacker-2026-edition-3/
CATEGORIES:Pay What You Can,Workshop
END:VEVENT
BEGIN:VEVENT
DTSTART;TZID=America/New_York:20260629T120000
DTEND;TZID=America/New_York:20260702T160000
DTSTAMP:20260425T103012
CREATED:20251215T173433Z
LAST-MODIFIED:20260116T164801Z
UID:10000868-1782734400-1783008000@www.antisyphontraining.com
SUMMARY:Active Defense and Cyber Deception with John Strand
DESCRIPTION:
URL:https://www.antisyphontraining.com/event/active-defense-and-cyber-deception-with-john-strand-6/
CATEGORIES:Blue Team,Featured,Pay What You Can
END:VEVENT
END:VCALENDAR