BEGIN:VCALENDAR
VERSION:2.0
PRODID:-//Antisyphon Training - ECPv6.15.20//NONSGML v1.0//EN
CALSCALE:GREGORIAN
METHOD:PUBLISH
X-WR-CALNAME:Antisyphon Training
X-ORIGINAL-URL:https://www.antisyphontraining.com
X-WR-CALDESC:Events for Antisyphon Training
REFRESH-INTERVAL;VALUE=DURATION:PT1H
X-Robots-Tag:noindex
X-PUBLISHED-TTL:PT1H
BEGIN:VTIMEZONE
TZID:America/New_York
BEGIN:DAYLIGHT
TZOFFSETFROM:-0500
TZOFFSETTO:-0400
TZNAME:EDT
DTSTART:20240310T070000
END:DAYLIGHT
BEGIN:STANDARD
TZOFFSETFROM:-0400
TZOFFSETTO:-0500
TZNAME:EST
DTSTART:20241103T060000
END:STANDARD
BEGIN:DAYLIGHT
TZOFFSETFROM:-0500
TZOFFSETTO:-0400
TZNAME:EDT
DTSTART:20250309T070000
END:DAYLIGHT
BEGIN:STANDARD
TZOFFSETFROM:-0400
TZOFFSETTO:-0500
TZNAME:EST
DTSTART:20251102T060000
END:STANDARD
BEGIN:DAYLIGHT
TZOFFSETFROM:-0500
TZOFFSETTO:-0400
TZNAME:EDT
DTSTART:20260308T070000
END:DAYLIGHT
BEGIN:STANDARD
TZOFFSETFROM:-0400
TZOFFSETTO:-0500
TZNAME:EST
DTSTART:20261101T060000
END:STANDARD
BEGIN:DAYLIGHT
TZOFFSETFROM:-0500
TZOFFSETTO:-0400
TZNAME:EDT
DTSTART:20270314T070000
END:DAYLIGHT
BEGIN:STANDARD
TZOFFSETFROM:-0400
TZOFFSETTO:-0500
TZNAME:EST
DTSTART:20271107T060000
END:STANDARD
END:VTIMEZONE
BEGIN:VTIMEZONE
TZID:America/Denver
BEGIN:DAYLIGHT
TZOFFSETFROM:-0700
TZOFFSETTO:-0600
TZNAME:MDT
DTSTART:20240310T090000
END:DAYLIGHT
BEGIN:STANDARD
TZOFFSETFROM:-0600
TZOFFSETTO:-0700
TZNAME:MST
DTSTART:20241103T080000
END:STANDARD
BEGIN:DAYLIGHT
TZOFFSETFROM:-0700
TZOFFSETTO:-0600
TZNAME:MDT
DTSTART:20250309T090000
END:DAYLIGHT
BEGIN:STANDARD
TZOFFSETFROM:-0600
TZOFFSETTO:-0700
TZNAME:MST
DTSTART:20251102T080000
END:STANDARD
BEGIN:DAYLIGHT
TZOFFSETFROM:-0700
TZOFFSETTO:-0600
TZNAME:MDT
DTSTART:20260308T090000
END:DAYLIGHT
BEGIN:STANDARD
TZOFFSETFROM:-0600
TZOFFSETTO:-0700
TZNAME:MST
DTSTART:20261101T080000
END:STANDARD
END:VTIMEZONE
BEGIN:VEVENT
DTSTART;TZID=America/New_York:20260403T100000
DTEND;TZID=America/New_York:20260403T180000
DTSTAMP:20260421T053135
CREATED:20260115T202957Z
LAST-MODIFIED:20260115T204924Z
UID:10000877-1775210400-1775239200@www.antisyphontraining.com
SUMMARY:Incident Response Simplified
DESCRIPTION:
URL:https://www.antisyphontraining.com/event/incident-response-simplified/
CATEGORIES:Blue Team,Incident Response,SOC
END:VEVENT
BEGIN:VEVENT
DTSTART;TZID=America/New_York:20260330T100000
DTEND;TZID=America/New_York:20260331T180000
DTSTAMP:20260421T053135
CREATED:20260115T214426Z
LAST-MODIFIED:20260115T214718Z
UID:10000874-1774864800-1774980000@www.antisyphontraining.com
SUMMARY:Network Forensics and Incident Response
DESCRIPTION:
URL:https://www.antisyphontraining.com/event/network-forensics-and-incident-response/
CATEGORIES:Forensics,Incident Response
END:VEVENT
BEGIN:VEVENT
DTSTART;TZID=America/New_York:20260326T100000
DTEND;TZID=America/New_York:20260327T180000
DTSTAMP:20260421T053135
CREATED:20260128T180208Z
LAST-MODIFIED:20260128T180208Z
UID:10000891-1774519200-1774634400@www.antisyphontraining.com
SUMMARY:Cybersecurity Incident Command
DESCRIPTION:
URL:https://www.antisyphontraining.com/event/cybersecurity-incident-command/
CATEGORIES:Incident Response
END:VEVENT
BEGIN:VEVENT
DTSTART;TZID=America/New_York:20260325T100000
DTEND;TZID=America/New_York:20260325T102500
DTSTAMP:20260421T053135
CREATED:20260122T211713Z
LAST-MODIFIED:20260123T174952Z
UID:10000878-1774432800-1774434300@www.antisyphontraining.com
SUMMARY:SOC Summit Talk: Needle Hunting: An Endpoint Investigation Cheat Sheet
DESCRIPTION:With Patterson Cake \n\n\n\n\n\n\n\nHow do you investigate – let alone understand – an endpoint operating system with more than 50 million lines of code? \n\n\n\nJoin Patterson Cake\, Black Hills Infosec Director of Incident Response\, for a technical session outlining a prioritized approach to endpoint investigations\, focusing on where and how unauthorized access and activity impact Windows and Linux. \n\n\n\nYou’ll learn about the endpoint “attack surface\,” prioritization of operating-system artifact selection\, suggested workflow for artifact acquisition\, and a methodology for identification of indicators of compromise. \n\n\n\n\nRegister Here\n\n\n\n\nChat with your fellow SOC Summit attendees in the Antisyphon Discord server: https://discord.gg/antisyphon \n\n\n\n\n\n This talk is part of the Antisyphon Training SOC Summit\, a free\, 6-hour\, live virtual event designed to give you an honest\, practical look at what it’s really like to work in a SOC. \n\n\n\nFor those who want to go further\, multiple hands-on\, high-quality\, and affordable training courses are available March 26-April 10 to help you deepen your skills and become more effective at protecting what matters most. \n\n\n\nPatterson Cake will be teaching his Incident Response Simplified class on April 3. \n\n\n\n\nLearn more about the SOC Summit\n\n\n\n\nSee the entire Antisyphon Training Course Catalog for affordable cybersecurity training!  \n\n\n\n\n\n\n\nAbout the Instructor\n\n\n\nPatterson Cake\n\n\n\n\nBio\n\n\n\nPatterson Cake joined the Black Hills Information Security (BHIS) pirate ship in June of 2023 as a Security Analyst focusing primarily on detection engineering and digital forensics and incident response. He chose BHIS because\, to paraphrase\, “doing cool stuff with cool people” and “making the world a better/safer place” is exactly how he wants to spend his professional time and energy. It also helps that he has a bit of history with a couple of awesome folks that have been with BHIS for many moons. Prior to joining the team\, Patterson helped build and lead a DFIR practice for an MSSP\, worked as a senior security engineer for AWS Managed Services\, and spent several years in enterprise cybersecurity\, often healthcare related\, focusing on intermingling offensive security and incident response in technical and leadership roles. Outside of work\, he enjoys spending time with his family\, which often involves motorcycles\, outdoor sports\, movies\, and music. \n\n\n\n\n\n\n\n\n\n\n\n\n 
URL:https://www.antisyphontraining.com/event/soc-summit-talk-needle-hunting-an-endpoint-investigation-cheat-sheet/
CATEGORIES:Blue Team,Incident Response,SOC
ATTACH;FMTTYPE=image/webp:https://www.antisyphontraining.com/wp-content/uploads/2026/01/Talk_Needle-Hunting-An-Endpoint-Investigation-Cheat-Sheet_Patterson-Cake.webp
END:VEVENT
BEGIN:VEVENT
DTSTART;TZID=America/New_York:20251017T110000
DTEND;TZID=America/New_York:20251017T160000
DTSTAMP:20260421T053135
CREATED:20250515T152549Z
LAST-MODIFIED:20250730T154548Z
UID:10000788-1760698800-1760716800@www.antisyphontraining.com
SUMMARY:Workshop: Investigating M365 Business Email Compromise with Patterson Cake
DESCRIPTION:
URL:https://www.antisyphontraining.com/event/workshop-investigating-m365-business-email-compromise-with-patterson-cake-2/
CATEGORIES:Forensics,Incident Response,Microsoft Windows,Pay What You Can,Workshop
END:VEVENT
BEGIN:VEVENT
DTSTART;TZID=America/Denver:20251007T083000
DTEND;TZID=America/Denver:20251008T170000
DTSTAMP:20260421T053135
CREATED:20250319T163205Z
LAST-MODIFIED:20250319T163213Z
UID:10000753-1759825800-1759942800@www.antisyphontraining.com
SUMMARY:Threat Hunting & Incident Response with Velociraptor with Eric Capuano and Whitney Champion
DESCRIPTION:
URL:https://www.antisyphontraining.com/event/threat-hunting-incident-response-with-velociraptor-with-eric-capuano-and-whitney-champion/
CATEGORIES:Incident Response,Threat Hunting
END:VEVENT
BEGIN:VEVENT
DTSTART;TZID=America/Denver:20251007T083000
DTEND;TZID=America/Denver:20251008T170000
DTSTAMP:20260421T053135
CREATED:20250217T165800Z
LAST-MODIFIED:20250305T141321Z
UID:10000719-1759825800-1759942800@www.antisyphontraining.com
SUMMARY:Cybersecurity Incident Command with Gerard Johansen
DESCRIPTION:
URL:https://www.antisyphontraining.com/event/cybersecurity-incident-command-with-gerard-johansen/
CATEGORIES:Incident Response
END:VEVENT
BEGIN:VEVENT
DTSTART;TZID=America/New_York:20250828T090000
DTEND;TZID=America/New_York:20250829T180000
DTSTAMP:20260421T053135
CREATED:20250422T192852Z
LAST-MODIFIED:20250512T180630Z
UID:10000783-1756371600-1756490400@www.antisyphontraining.com
SUMMARY:Network Forensics and Incident Response with Troy Wojewoda
DESCRIPTION:
URL:https://www.antisyphontraining.com/event/network-forensics-and-incident-response-with-troy-wojewoda-3/
CATEGORIES:Forensics,Incident Response
END:VEVENT
BEGIN:VEVENT
DTSTART;TZID=America/New_York:20250110T110000
DTEND;TZID=America/New_York:20250110T160000
DTSTAMP:20260421T053135
CREATED:20241210T154513Z
LAST-MODIFIED:20241211T174225Z
UID:10000674-1736506800-1736524800@www.antisyphontraining.com
SUMMARY:Workshop: Investigating M365 Business Email Compromise with Patterson Cake
DESCRIPTION:
URL:https://www.antisyphontraining.com/event/workshop-investigating-m365-business-email-compromise-with-patterson-cake/
CATEGORIES:Forensics,Incident Response,Microsoft Windows,Pay What You Can,Workshop
END:VEVENT
END:VCALENDAR