BEGIN:VCALENDAR
VERSION:2.0
PRODID:-//Antisyphon Training - ECPv6.15.20//NONSGML v1.0//EN
CALSCALE:GREGORIAN
METHOD:PUBLISH
X-WR-CALNAME:Antisyphon Training
X-ORIGINAL-URL:https://www.antisyphontraining.com
X-WR-CALDESC:Events for Antisyphon Training
REFRESH-INTERVAL;VALUE=DURATION:PT1H
X-Robots-Tag:noindex
X-PUBLISHED-TTL:PT1H
BEGIN:VTIMEZONE
TZID:America/New_York
BEGIN:DAYLIGHT
TZOFFSETFROM:-0500
TZOFFSETTO:-0400
TZNAME:EDT
DTSTART:20230312T070000
END:DAYLIGHT
BEGIN:STANDARD
TZOFFSETFROM:-0400
TZOFFSETTO:-0500
TZNAME:EST
DTSTART:20231105T060000
END:STANDARD
BEGIN:DAYLIGHT
TZOFFSETFROM:-0500
TZOFFSETTO:-0400
TZNAME:EDT
DTSTART:20240310T070000
END:DAYLIGHT
BEGIN:STANDARD
TZOFFSETFROM:-0400
TZOFFSETTO:-0500
TZNAME:EST
DTSTART:20241103T060000
END:STANDARD
BEGIN:DAYLIGHT
TZOFFSETFROM:-0500
TZOFFSETTO:-0400
TZNAME:EDT
DTSTART:20250309T070000
END:DAYLIGHT
BEGIN:STANDARD
TZOFFSETFROM:-0400
TZOFFSETTO:-0500
TZNAME:EST
DTSTART:20251102T060000
END:STANDARD
BEGIN:DAYLIGHT
TZOFFSETFROM:-0500
TZOFFSETTO:-0400
TZNAME:EDT
DTSTART:20260308T070000
END:DAYLIGHT
BEGIN:STANDARD
TZOFFSETFROM:-0400
TZOFFSETTO:-0500
TZNAME:EST
DTSTART:20261101T060000
END:STANDARD
BEGIN:DAYLIGHT
TZOFFSETFROM:-0500
TZOFFSETTO:-0400
TZNAME:EDT
DTSTART:20270314T070000
END:DAYLIGHT
BEGIN:STANDARD
TZOFFSETFROM:-0400
TZOFFSETTO:-0500
TZNAME:EST
DTSTART:20271107T060000
END:STANDARD
END:VTIMEZONE
BEGIN:VTIMEZONE
TZID:America/Denver
BEGIN:DAYLIGHT
TZOFFSETFROM:-0700
TZOFFSETTO:-0600
TZNAME:MDT
DTSTART:20240310T090000
END:DAYLIGHT
BEGIN:STANDARD
TZOFFSETFROM:-0600
TZOFFSETTO:-0700
TZNAME:MST
DTSTART:20241103T080000
END:STANDARD
BEGIN:DAYLIGHT
TZOFFSETFROM:-0700
TZOFFSETTO:-0600
TZNAME:MDT
DTSTART:20250309T090000
END:DAYLIGHT
BEGIN:STANDARD
TZOFFSETFROM:-0600
TZOFFSETTO:-0700
TZNAME:MST
DTSTART:20251102T080000
END:STANDARD
BEGIN:DAYLIGHT
TZOFFSETFROM:-0700
TZOFFSETTO:-0600
TZNAME:MDT
DTSTART:20260308T090000
END:DAYLIGHT
BEGIN:STANDARD
TZOFFSETFROM:-0600
TZOFFSETTO:-0700
TZNAME:MST
DTSTART:20261101T080000
END:STANDARD
END:VTIMEZONE
BEGIN:VTIMEZONE
TZID:Europe/Warsaw
BEGIN:DAYLIGHT
TZOFFSETFROM:+0100
TZOFFSETTO:+0200
TZNAME:CEST
DTSTART:20240331T010000
END:DAYLIGHT
BEGIN:STANDARD
TZOFFSETFROM:+0200
TZOFFSETTO:+0100
TZNAME:CET
DTSTART:20241027T010000
END:STANDARD
BEGIN:DAYLIGHT
TZOFFSETFROM:+0100
TZOFFSETTO:+0200
TZNAME:CEST
DTSTART:20250330T010000
END:DAYLIGHT
BEGIN:STANDARD
TZOFFSETFROM:+0200
TZOFFSETTO:+0100
TZNAME:CET
DTSTART:20251026T010000
END:STANDARD
BEGIN:DAYLIGHT
TZOFFSETFROM:+0100
TZOFFSETTO:+0200
TZNAME:CEST
DTSTART:20260329T010000
END:DAYLIGHT
BEGIN:STANDARD
TZOFFSETFROM:+0200
TZOFFSETTO:+0100
TZNAME:CET
DTSTART:20261025T010000
END:STANDARD
END:VTIMEZONE
BEGIN:VEVENT
DTSTART;TZID=America/New_York:20260417T120000
DTEND;TZID=America/New_York:20260417T160000
DTSTAMP:20260421T071639
CREATED:20260319T153734Z
LAST-MODIFIED:20260319T154102Z
UID:10000935-1776427200-1776441600@www.antisyphontraining.com
SUMMARY:Workshop: How to Think Like a Cybersecurity Defender
DESCRIPTION:
URL:https://www.antisyphontraining.com/event/workshop-how-to-think-like-a-cybersecurity-defender/
CATEGORIES:Blue Team,EDR,Fundamentals,Live,OSINT,Pay What You Can,SIEM,SOC,Virtual,Workshop,XDR
END:VEVENT
BEGIN:VEVENT
DTSTART;TZID=America/New_York:20260406T120000
DTEND;TZID=America/New_York:20260409T160000
DTSTAMP:20260421T071639
CREATED:20251215T171155Z
LAST-MODIFIED:20260116T160331Z
UID:10000866-1775476800-1775750400@www.antisyphontraining.com
SUMMARY:SOC Core Skills with John Strand
DESCRIPTION:
URL:https://www.antisyphontraining.com/event/soc-core-skills-with-john-strand-4/
CATEGORIES:Blue Team,Fundamentals,Pay What You Can,SOC
END:VEVENT
BEGIN:VEVENT
DTSTART;TZID=America/New_York:20260323T100000
DTEND;TZID=America/New_York:20260324T180000
DTSTAMP:20260421T071639
CREATED:20260218T164308Z
LAST-MODIFIED:20260218T170302Z
UID:10000917-1774260000-1774375200@www.antisyphontraining.com
SUMMARY:Red Team Fundamentals for Active Directory
DESCRIPTION:
URL:https://www.antisyphontraining.com/event/red-team-fundamentals-for-active-directory/
CATEGORIES:Fundamentals,Pay What You Can,Red Team,SecureIdeas
END:VEVENT
BEGIN:VEVENT
DTSTART;TZID=America/New_York:20260223T120000
DTEND;TZID=America/New_York:20260226T160000
DTSTAMP:20260421T071639
CREATED:20251202T211744Z
LAST-MODIFIED:20260218T210801Z
UID:10000859-1771848000-1772121600@www.antisyphontraining.com
SUMMARY:Cybersecurity Foundations
DESCRIPTION:
URL:https://www.antisyphontraining.com/event/cybersecurity-foundations-1/
CATEGORIES:Blue Team,Fundamentals,Mitre Att&ck,Pay What You Can
END:VEVENT
BEGIN:VEVENT
DTSTART;TZID=America/New_York:20251202T100000
DTEND;TZID=America/New_York:20251203T180000
DTSTAMP:20260421T071639
CREATED:20251107T161419Z
LAST-MODIFIED:20251202T185957Z
UID:10000854-1764669600-1764784800@www.antisyphontraining.com
SUMMARY:Getting Started in Security with BHIS and MITRE ATT&CK with John Strand
DESCRIPTION:
URL:https://www.antisyphontraining.com/event/getting-started-in-security-with-bhis-and-mitre-attck-with-john-strand-6/
CATEGORIES:Blue Team,Fundamentals,Mitre Att&ck,Pay What You Can
END:VEVENT
BEGIN:VEVENT
DTSTART;TZID=America/New_York:20251020T110000
DTEND;TZID=America/New_York:20251023T160000
DTSTAMP:20260421T071639
CREATED:20250325T214020Z
LAST-MODIFIED:20250905T173353Z
UID:10000759-1760958000-1761235200@www.antisyphontraining.com
SUMMARY:SOC Core Skills with John Strand
DESCRIPTION: \n \n \n \n \n \n \n 
URL:https://www.antisyphontraining.com/event/soc-core-skills-with-john-strand-3/
CATEGORIES:Blue Team,Fundamentals,Pay What You Can,SOC
END:VEVENT
BEGIN:VEVENT
DTSTART;TZID=America/Denver:20251007T083000
DTEND;TZID=America/Denver:20251008T170000
DTSTAMP:20260421T071639
CREATED:20250217T170340Z
LAST-MODIFIED:20250305T140942Z
UID:10000724-1759825800-1759942800@www.antisyphontraining.com
SUMMARY:Introduction to Pentesting with John Strand
DESCRIPTION:
URL:https://www.antisyphontraining.com/event/introduction-to-pentesting-with-john-strand/
CATEGORIES:Fundamentals,Pentesting,Red Team
END:VEVENT
BEGIN:VEVENT
DTSTART;TZID=America/Denver:20251007T083000
DTEND;TZID=America/Denver:20251008T170000
DTSTAMP:20260421T071639
CREATED:20250217T170329Z
LAST-MODIFIED:20250305T141023Z
UID:10000723-1759825800-1759942800@www.antisyphontraining.com
SUMMARY:Hacking Active Directory: Fundamentals and Techniques with Dale Hobbs
DESCRIPTION:
URL:https://www.antisyphontraining.com/event/hacking-active-directory-fundamentals-and-techniques-with-dale-hobbs-3/
CATEGORIES:Fundamentals,Red Team
END:VEVENT
BEGIN:VEVENT
DTSTART;TZID=America/Denver:20251007T083000
DTEND;TZID=America/Denver:20251008T170000
DTSTAMP:20260421T071639
CREATED:20250217T170142Z
LAST-MODIFIED:20250305T141127Z
UID:10000722-1759825800-1759942800@www.antisyphontraining.com
SUMMARY:Foundations of SOC with Elastic and Jira with Hayden Covington
DESCRIPTION:
URL:https://www.antisyphontraining.com/event/foundations-of-soc-with-elastic-and-jira-w-hayden-covington/
CATEGORIES:Fundamentals,SOC
END:VEVENT
BEGIN:VEVENT
DTSTART;TZID=Europe/Warsaw:20250819T083000
DTEND;TZID=Europe/Warsaw:20250819T130000
DTSTAMP:20260421T071639
CREATED:20250722T180526Z
LAST-MODIFIED:20250804T162007Z
UID:10000809-1755592200-1755608400@www.antisyphontraining.com
SUMMARY:Workshop: Practical IT Fundamentals with Zach Hill
DESCRIPTION:
URL:https://www.antisyphontraining.com/event/workshop-practical-it-fundamentals-with-zach-hill/
CATEGORIES:Fundamentals,Pay What You Can,Workshop
END:VEVENT
BEGIN:VEVENT
DTSTART;TZID=America/New_York:20250818T110000
DTEND;TZID=America/New_York:20250821T160000
DTSTAMP:20260421T071639
CREATED:20250709T191317Z
LAST-MODIFIED:20250709T191317Z
UID:10000802-1755514800-1755792000@www.antisyphontraining.com
SUMMARY:Getting Started in Security with BHIS and MITRE ATT&CK with John Strand
DESCRIPTION:
URL:https://www.antisyphontraining.com/event/getting-started-in-security-with-bhis-and-mitre-attck-with-john-strand-5/
CATEGORIES:Blue Team,Fundamentals,Mitre Att&ck,Pay What You Can
END:VEVENT
BEGIN:VEVENT
DTSTART;TZID=America/New_York:20250512T110000
DTEND;TZID=America/New_York:20250515T160000
DTSTAMP:20260421T071639
CREATED:20241205T195049Z
LAST-MODIFIED:20250509T165348Z
UID:10000677-1747047600-1747324800@www.antisyphontraining.com
SUMMARY:Getting Started in Security with BHIS and MITRE ATT&CK with John Strand
DESCRIPTION:
URL:https://www.antisyphontraining.com/event/getting-started-in-security-with-bhis-and-mitre-attck-with-john-strand-3/
CATEGORIES:Blue Team,Fundamentals,Mitre Att&ck,Pay What You Can
END:VEVENT
BEGIN:VEVENT
DTSTART;TZID=America/New_York:20250407T110000
DTEND;TZID=America/New_York:20250410T160000
DTSTAMP:20260421T071639
CREATED:20241205T202453Z
LAST-MODIFIED:20250410T161323Z
UID:10000678-1744023600-1744300800@www.antisyphontraining.com
SUMMARY:SOC Core Skills with John Strand
DESCRIPTION:
URL:https://www.antisyphontraining.com/event/soc-core-skills-with-john-strand-2/
CATEGORIES:Blue Team,Fundamentals,Pay What You Can,SOC
END:VEVENT
BEGIN:VEVENT
DTSTART;TZID=America/New_York:20250224T110000
DTEND;TZID=America/New_York:20250227T160000
DTSTAMP:20260421T071639
CREATED:20241205T162717Z
LAST-MODIFIED:20250225T195441Z
UID:10000675-1740394800-1740672000@www.antisyphontraining.com
SUMMARY:Getting Started in Security with BHIS and MITRE ATT&CK with John Strand
DESCRIPTION:
URL:https://www.antisyphontraining.com/event/getting-started-in-security-with-bhis-and-mitre-attck-with-john-strand-2/
CATEGORIES:Blue Team,Fundamentals,Mitre Att&ck,Pay What You Can
END:VEVENT
BEGIN:VEVENT
DTSTART;TZID=America/New_York:20250127T110000
DTEND;TZID=America/New_York:20250130T160000
DTSTAMP:20260421T071639
CREATED:20240729T200251Z
LAST-MODIFIED:20250121T161730Z
UID:10000577-1737975600-1738252800@www.antisyphontraining.com
SUMMARY:SOC Core Skills with John Strand
DESCRIPTION:
URL:https://www.antisyphontraining.com/event/soc-core-skills-with-john-strand/
LOCATION:Online
CATEGORIES:Blue Team,Fundamentals,Pay What You Can,SOC
END:VEVENT
BEGIN:VEVENT
DTSTART;TZID=America/New_York:20241205T090000
DTEND;TZID=America/New_York:20241206T180000
DTSTAMP:20260421T071639
CREATED:20240801T210347Z
LAST-MODIFIED:20241127T214000Z
UID:10000659-1733389200-1733508000@www.antisyphontraining.com
SUMMARY:Hacking Active Directory: Fundamentals and Techniques with Dale Hobbs
DESCRIPTION:
URL:https://www.antisyphontraining.com/event/hacking-active-directory-fundamentals-and-techniques-with-dale-hobbs-2/
CATEGORIES:Fundamentals,Red Team
END:VEVENT
BEGIN:VEVENT
DTSTART;TZID=America/New_York:20241205T090000
DTEND;TZID=America/New_York:20241205T130000
DTSTAMP:20260421T071639
CREATED:20240828T221628Z
LAST-MODIFIED:20241127T214038Z
UID:10000663-1733389200-1733403600@www.antisyphontraining.com
SUMMARY:Reporting for Pentesters with BB King
DESCRIPTION:
URL:https://www.antisyphontraining.com/event/reporting-for-pentesters-with-bb-king/
CATEGORIES:Fundamentals,Pentesting
END:VEVENT
BEGIN:VEVENT
DTSTART;TZID=America/New_York:20241104T110000
DTEND;TZID=America/New_York:20241107T160000
DTSTAMP:20260421T071639
CREATED:20240828T210837Z
LAST-MODIFIED:20241127T192434Z
UID:10000650-1730718000-1730995200@www.antisyphontraining.com
SUMMARY:Getting Started in Security with BHIS and MITRE ATT&CK with John Strand
DESCRIPTION:
URL:https://www.antisyphontraining.com/event/getting-started-in-security-with-bhis-and-mitre-attck-with-john-strand/
CATEGORIES:Blue Team,Fundamentals,Mitre Att&ck,Pay What You Can
END:VEVENT
END:VCALENDAR