BEGIN:VCALENDAR
VERSION:2.0
PRODID:-//Antisyphon Training - ECPv6.15.20//NONSGML v1.0//EN
CALSCALE:GREGORIAN
METHOD:PUBLISH
X-ORIGINAL-URL:https://www.antisyphontraining.com
X-WR-CALDESC:Events for Antisyphon Training
REFRESH-INTERVAL;VALUE=DURATION:PT1H
X-Robots-Tag:noindex
X-PUBLISHED-TTL:PT1H
BEGIN:VTIMEZONE
TZID:America/New_York
BEGIN:DAYLIGHT
TZOFFSETFROM:-0500
TZOFFSETTO:-0400
TZNAME:EDT
DTSTART:20240310T070000
END:DAYLIGHT
BEGIN:STANDARD
TZOFFSETFROM:-0400
TZOFFSETTO:-0500
TZNAME:EST
DTSTART:20241103T060000
END:STANDARD
BEGIN:DAYLIGHT
TZOFFSETFROM:-0500
TZOFFSETTO:-0400
TZNAME:EDT
DTSTART:20250309T070000
END:DAYLIGHT
BEGIN:STANDARD
TZOFFSETFROM:-0400
TZOFFSETTO:-0500
TZNAME:EST
DTSTART:20251102T060000
END:STANDARD
BEGIN:DAYLIGHT
TZOFFSETFROM:-0500
TZOFFSETTO:-0400
TZNAME:EDT
DTSTART:20260308T070000
END:DAYLIGHT
BEGIN:STANDARD
TZOFFSETFROM:-0400
TZOFFSETTO:-0500
TZNAME:EST
DTSTART:20261101T060000
END:STANDARD
BEGIN:DAYLIGHT
TZOFFSETFROM:-0500
TZOFFSETTO:-0400
TZNAME:EDT
DTSTART:20270314T070000
END:DAYLIGHT
BEGIN:STANDARD
TZOFFSETFROM:-0400
TZOFFSETTO:-0500
TZNAME:EST
DTSTART:20271107T060000
END:STANDARD
END:VTIMEZONE
BEGIN:VEVENT
DTSTART;TZID=America/New_York:20260330T100000
DTEND;TZID=America/New_York:20260331T180000
DTSTAMP:20260423T062009
CREATED:20260115T214426Z
LAST-MODIFIED:20260115T214718Z
UID:10000874-1774864800-1774980000@www.antisyphontraining.com
SUMMARY:Network Forensics and Incident Response
DESCRIPTION:
URL:https://www.antisyphontraining.com/event/network-forensics-and-incident-response/
CATEGORIES:Forensics,Incident Response
END:VEVENT
BEGIN:VEVENT
DTSTART;TZID=America/New_York:20260325T103000
DTEND;TZID=America/New_York:20260325T105500
DTSTAMP:20260423T062009
CREATED:20260122T211538Z
LAST-MODIFIED:20260123T174935Z
UID:10000879-1774434600-1774436100@www.antisyphontraining.com
SUMMARY:SOC Summit Talk: Practical Email Forensics with EML Analyzer
DESCRIPTION:With Seth Williams \n\n\n\n\n\n\n\nWhen you’re handed a suspicious email\, how do you investigate what it is really doing? \n\n\n\nIn this 25-minute technical presentation\, Seth Williams will walk through hands-on email forensics using Sublime Security’s free EML Analyzer\, teaching you how to break down raw email files to uncover the true mechanics of phishing\, malware delivery\, and social engineering attacks. \n\n\n\nYou’ll learn how to quickly review headers\, authentication results\, URLs\, attachments\, and metadata to validate detections\, explain why an email is dangerous\, and confidently decide when to escalate or close alerts and user reports. \n\n\n\nSharpen your email analysis skills and improve triage with evidence-based investigations. \n\n\n\nEML Analyzer – Sublime Security \n\n\n\nWe invited Seth and Sublime Security to present because their free tool can help you improve your suspicious email investigations today. \n\n\n\n\nRegister Here\n\n\n\n\nChat with your fellow SOC Summit attendees in the Antisyphon Discord server: https://discord.gg/antisyphon \n\n\n\n\n\n This talk is part of the Antisyphon Training SOC Summit\, a free\, 6-hour\, live virtual event designed to give you an honest\, practical look at what it’s really like to work in a SOC. \n\n\n\nFor those who want to go further\, multiple hands-on\, high-quality\, and affordable training courses are available March 26-April 10 to help you deepen your skills and become more effective at protecting what matters most. \n\n\n\n\nLearn more about the SOC Summit\n\n\n\n\nSee the entire Antisyphon Training Course Catalog for affordable cybersecurity training!  \n\n\n\n\n\n\n\nAbout the Instructor\n\n\n\nSeth Williams\n\n\n\n\nBio\n\n\n\nSeth Williams is the Global Partner CTO at Sublime Security\, where he builds and scales partner ecosystems across MSSPs\, VARs\, GSIs\, and technical alliances\, helping partners and customers achieve real-world security outcomes. With a career that spans federal and commercial security architecture\, large-scale SIEM operations\, professional services leadership\, and security strategy\, Seth brings a practical understanding of how security actually works in the field. He focuses on clear technical alignment\, cutting through complexity\, and turning advanced security capabilities into straightforward\, dependable solutions that partners can deliver confidently. \n\n\n\n\n\n\n\n\n\n\n\n\n  \n\n\n\n 
URL:https://www.antisyphontraining.com/event/soc-summit-talk-practical-email-forensics-with-eml-analyzer/
CATEGORIES:Blue Team,Forensics,SOC
ATTACH;FMTTYPE=image/webp:https://www.antisyphontraining.com/wp-content/uploads/2026/01/Talk_Practical-Email-Forensics-with-EML-Analyzer_Seth-Williams.webp
END:VEVENT
BEGIN:VEVENT
DTSTART;TZID=America/New_York:20251017T110000
DTEND;TZID=America/New_York:20251017T160000
DTSTAMP:20260423T062009
CREATED:20250515T152549Z
LAST-MODIFIED:20250730T154548Z
UID:10000788-1760698800-1760716800@www.antisyphontraining.com
SUMMARY:Workshop: Investigating M365 Business Email Compromise with Patterson Cake
DESCRIPTION:
URL:https://www.antisyphontraining.com/event/workshop-investigating-m365-business-email-compromise-with-patterson-cake-2/
CATEGORIES:Forensics,Incident Response,Microsoft Windows,Pay What You Can,Workshop
END:VEVENT
BEGIN:VEVENT
DTSTART;TZID=America/New_York:20250828T090000
DTEND;TZID=America/New_York:20250829T180000
DTSTAMP:20260423T062009
CREATED:20250422T192852Z
LAST-MODIFIED:20250512T180630Z
UID:10000783-1756371600-1756490400@www.antisyphontraining.com
SUMMARY:Network Forensics and Incident Response with Troy Wojewoda
DESCRIPTION:
URL:https://www.antisyphontraining.com/event/network-forensics-and-incident-response-with-troy-wojewoda-3/
CATEGORIES:Forensics,Incident Response
END:VEVENT
BEGIN:VEVENT
DTSTART;TZID=America/New_York:20250110T110000
DTEND;TZID=America/New_York:20250110T160000
DTSTAMP:20260423T062009
CREATED:20241210T154513Z
LAST-MODIFIED:20241211T174225Z
UID:10000674-1736506800-1736524800@www.antisyphontraining.com
SUMMARY:Workshop: Investigating M365 Business Email Compromise with Patterson Cake
DESCRIPTION:
URL:https://www.antisyphontraining.com/event/workshop-investigating-m365-business-email-compromise-with-patterson-cake/
CATEGORIES:Forensics,Incident Response,Microsoft Windows,Pay What You Can,Workshop
END:VEVENT
END:VCALENDAR