BEGIN:VCALENDAR
VERSION:2.0
PRODID:-//Antisyphon Training - ECPv6.15.20//NONSGML v1.0//EN
CALSCALE:GREGORIAN
METHOD:PUBLISH
X-ORIGINAL-URL:https://www.antisyphontraining.com
X-WR-CALDESC:Events for Antisyphon Training
REFRESH-INTERVAL;VALUE=DURATION:PT1H
X-Robots-Tag:noindex
X-PUBLISHED-TTL:PT1H
BEGIN:VTIMEZONE
TZID:America/New_York
BEGIN:DAYLIGHT
TZOFFSETFROM:-0500
TZOFFSETTO:-0400
TZNAME:EDT
DTSTART:20240310T070000
END:DAYLIGHT
BEGIN:STANDARD
TZOFFSETFROM:-0400
TZOFFSETTO:-0500
TZNAME:EST
DTSTART:20241103T060000
END:STANDARD
BEGIN:DAYLIGHT
TZOFFSETFROM:-0500
TZOFFSETTO:-0400
TZNAME:EDT
DTSTART:20250309T070000
END:DAYLIGHT
BEGIN:STANDARD
TZOFFSETFROM:-0400
TZOFFSETTO:-0500
TZNAME:EST
DTSTART:20251102T060000
END:STANDARD
BEGIN:DAYLIGHT
TZOFFSETFROM:-0500
TZOFFSETTO:-0400
TZNAME:EDT
DTSTART:20260308T070000
END:DAYLIGHT
BEGIN:STANDARD
TZOFFSETFROM:-0400
TZOFFSETTO:-0500
TZNAME:EST
DTSTART:20261101T060000
END:STANDARD
END:VTIMEZONE
BEGIN:VEVENT
DTSTART;TZID=America/New_York:20251112T120000
DTEND;TZID=America/New_York:20251112T130000
DTSTAMP:20260425T183455
CREATED:20251031T160536Z
LAST-MODIFIED:20251031T160540Z
UID:10000833-1762948800-1762952400@www.antisyphontraining.com
SUMMARY:Anti-Cast: PKI Foundations for Security Pros with Jake Hildreth
DESCRIPTION:Do terms like hashing\, signing\, and certificates feel more confusing than clear? \n\n\n\nPublic Key Infrastructure (PKI) has a reputation for being complicated\, but it doesn’t have to be. \n\n\n\nJoin us for a free one-hour training session with Jake Hildreth\, Principal Security Consultant\, on PKI Foundations for Security Professionals. \n\n\n\nHe’ll teach core cryptography step by step—from symmetric encryption and shared keys to asymmetric encryption\, hashing\, signing\, and certificates—then connect it all in a working PKI. \n\n\n\n\nRegister Here\n\n\n\n\nJoin us for PreShow Banter™ at 11:30 AM ETChat with your fellow attendees in the BHIS Discord server:https://discord.gg/bhis in the #🔴live-chat channel \n\n\n\nStay up to date on our upcoming live Anti-Casts and more at https://poweredbybhis.com \n\n\n\nDon’t forget to check out our Course Catalog for our upcoming free and affordable cybersecurity training!
URL:https://www.antisyphontraining.com/event/anti-cast-pki-foundations-for-security-pros-with-jake-hildreth/
CATEGORIES:Anti-Cast
ATTACH;FMTTYPE=image/webp:https://www.antisyphontraining.com/wp-content/uploads/2025/10/PKI-Foundations-for-Security-Pros-with-Jake-Hildreth.webp
END:VEVENT
END:VCALENDAR