BEGIN:VCALENDAR
VERSION:2.0
PRODID:-//Antisyphon Training - ECPv6.15.20//NONSGML v1.0//EN
CALSCALE:GREGORIAN
METHOD:PUBLISH
X-ORIGINAL-URL:https://www.antisyphontraining.com
X-WR-CALDESC:Events for Antisyphon Training
REFRESH-INTERVAL;VALUE=DURATION:PT1H
X-Robots-Tag:noindex
X-PUBLISHED-TTL:PT1H
BEGIN:VTIMEZONE
TZID:America/Denver
BEGIN:DAYLIGHT
TZOFFSETFROM:-0700
TZOFFSETTO:-0600
TZNAME:MDT
DTSTART:20230312T090000
END:DAYLIGHT
BEGIN:STANDARD
TZOFFSETFROM:-0600
TZOFFSETTO:-0700
TZNAME:MST
DTSTART:20231105T080000
END:STANDARD
BEGIN:DAYLIGHT
TZOFFSETFROM:-0700
TZOFFSETTO:-0600
TZNAME:MDT
DTSTART:20240310T090000
END:DAYLIGHT
BEGIN:STANDARD
TZOFFSETFROM:-0600
TZOFFSETTO:-0700
TZNAME:MST
DTSTART:20241103T080000
END:STANDARD
BEGIN:DAYLIGHT
TZOFFSETFROM:-0700
TZOFFSETTO:-0600
TZNAME:MDT
DTSTART:20250309T090000
END:DAYLIGHT
BEGIN:STANDARD
TZOFFSETFROM:-0600
TZOFFSETTO:-0700
TZNAME:MST
DTSTART:20251102T080000
END:STANDARD
END:VTIMEZONE
BEGIN:VEVENT
DTSTART;TZID=America/Denver:20241030T120000
DTEND;TZID=America/Denver:20241030T130000
DTSTAMP:20260425T102855
CREATED:20241022T181305Z
LAST-MODIFIED:20241022T181326Z
UID:10000653-1730289600-1730293200@www.antisyphontraining.com
SUMMARY:Anti-Cast: Securing the Blobs - A Deep Dive on S3 Security with Andrew Krug
DESCRIPTION:Blob stores services exist on every cloud provider platform. \n\n\n\nAmazon S3 is one of the most popular given that it was the original service that AWS Launched in 2006.  \n\n\n\nSince then buckets aka blob stores get a bad reputation for the various and sundry ways they can be misconfigured resulting in data leaks.  \n\n\n\nJoin us for a free one-hour Antisyphon Anti-cast with instructor\, Andrew Krug\, as he teaches about the security controls\, analytics\, logging\, and options for classifying data in the Amazon S3 service.  \n\n\n\nDon’t miss this unique opportunity to get into the weeds on a platform that’s often viewed as “boring”. \n\n\n\n\nRegister Here\n\n\n\n\nJoin us for PreShow Banter™ at 11:30 AM ETChat with your fellow attendees in the Antisyphon Discord server:https://discord.gg/antisyphonin the #🍿anticasts-chat channel \n\n\n\nStay up to date on our upcoming live Anti-Casts and more at https://poweredbybhis.com \n\n\n\nDon’t forget to check out our Course Catalog for our upcoming free and affordable cybersecurity training!
URL:https://www.antisyphontraining.com/event/securing-the-blobs-a-deep-dive-on-s3-security-with-andrew-krug/
CATEGORIES:Anti-Cast
ATTACH;FMTTYPE=image/webp:https://www.antisyphontraining.com/wp-content/uploads/2024/10/securing-the-blobs.webp
END:VEVENT
END:VCALENDAR