BEGIN:VCALENDAR
VERSION:2.0
PRODID:-//Antisyphon Training - ECPv6.15.20//NONSGML v1.0//EN
CALSCALE:GREGORIAN
METHOD:PUBLISH
X-ORIGINAL-URL:https://www.antisyphontraining.com
X-WR-CALDESC:Events for Antisyphon Training
REFRESH-INTERVAL;VALUE=DURATION:PT1H
X-Robots-Tag:noindex
X-PUBLISHED-TTL:PT1H
BEGIN:VTIMEZONE
TZID:America/Denver
BEGIN:DAYLIGHT
TZOFFSETFROM:-0700
TZOFFSETTO:-0600
TZNAME:MDT
DTSTART:20230312T090000
END:DAYLIGHT
BEGIN:STANDARD
TZOFFSETFROM:-0600
TZOFFSETTO:-0700
TZNAME:MST
DTSTART:20231105T080000
END:STANDARD
BEGIN:DAYLIGHT
TZOFFSETFROM:-0700
TZOFFSETTO:-0600
TZNAME:MDT
DTSTART:20240310T090000
END:DAYLIGHT
BEGIN:STANDARD
TZOFFSETFROM:-0600
TZOFFSETTO:-0700
TZNAME:MST
DTSTART:20241103T080000
END:STANDARD
BEGIN:DAYLIGHT
TZOFFSETFROM:-0700
TZOFFSETTO:-0600
TZNAME:MDT
DTSTART:20250309T090000
END:DAYLIGHT
BEGIN:STANDARD
TZOFFSETFROM:-0600
TZOFFSETTO:-0700
TZNAME:MST
DTSTART:20251102T080000
END:STANDARD
END:VTIMEZONE
BEGIN:VEVENT
DTSTART;TZID=America/Denver:20241023T120000
DTEND;TZID=America/Denver:20241023T130000
DTSTAMP:20260425T190129
CREATED:20241021T205928Z
LAST-MODIFIED:20241021T210905Z
UID:10000652-1729684800-1729688400@www.antisyphontraining.com
SUMMARY:Anti-Cast: Intro to Network Security Monitoring (NSM) with Troy Wojewoda
DESCRIPTION:Network Security Monitoring (NSM) is a critical component of modern cybersecurity strategies\, providing continuous surveillance of network traffic to detect and respond to potential threats. \n\n\n\nJoin us for a free one-hour Antisyphon Anti-cast on “Intro to Network Security Monitoring (NSM): Implementation &amp; Analysis\,” with instructor\, Troy Wojewoda. \n\n\n\nHe’ll cover the fundamentals of NSM\, including its importance\, key components\, and the implementation process. \n\n\n\nYou’ll gain insights into the tools and technologies used in NSM\, strategies for effective deployment\, and best practices for analyzing and responding to security incidents. \n\n\n\nThe live session will also address common challenges and offer practical solutions to enhance network security. \n\n\n\n\nRegister Here\n\n\n\n\nJoin us for PreShow Banter™ at 11:30 AM ETChat with your fellow attendees in the Antisyphon Discord server:https://discord.gg/antisyphonin the #🍿anticasts-chat channel \n\n\n\nStay up to date on our upcoming live Anti-Casts and more at https://poweredbybhis.com \n\n\n\nDon’t forget to check out our Course Catalog for our upcoming free and affordable cybersecurity training!
URL:https://www.antisyphontraining.com/event/intro-to-network-security-monitoring-nsm-with-troy-wojewoda/
CATEGORIES:Anti-Cast
ATTACH;FMTTYPE=image/webp:https://www.antisyphontraining.com/wp-content/uploads/2024/10/intro-to-nsm-troy.webp
END:VEVENT
END:VCALENDAR