BEGIN:VCALENDAR
VERSION:2.0
PRODID:-//Antisyphon Training - ECPv6.15.20//NONSGML v1.0//EN
CALSCALE:GREGORIAN
METHOD:PUBLISH
X-ORIGINAL-URL:https://www.antisyphontraining.com
X-WR-CALDESC:Events for Antisyphon Training
REFRESH-INTERVAL;VALUE=DURATION:PT1H
X-Robots-Tag:noindex
X-PUBLISHED-TTL:PT1H
BEGIN:VTIMEZONE
TZID:America/New_York
BEGIN:DAYLIGHT
TZOFFSETFROM:-0500
TZOFFSETTO:-0400
TZNAME:EDT
DTSTART:20230312T070000
END:DAYLIGHT
BEGIN:STANDARD
TZOFFSETFROM:-0400
TZOFFSETTO:-0500
TZNAME:EST
DTSTART:20231105T060000
END:STANDARD
BEGIN:DAYLIGHT
TZOFFSETFROM:-0500
TZOFFSETTO:-0400
TZNAME:EDT
DTSTART:20240310T070000
END:DAYLIGHT
BEGIN:STANDARD
TZOFFSETFROM:-0400
TZOFFSETTO:-0500
TZNAME:EST
DTSTART:20241103T060000
END:STANDARD
BEGIN:DAYLIGHT
TZOFFSETFROM:-0500
TZOFFSETTO:-0400
TZNAME:EDT
DTSTART:20250309T070000
END:DAYLIGHT
BEGIN:STANDARD
TZOFFSETFROM:-0400
TZOFFSETTO:-0500
TZNAME:EST
DTSTART:20251102T060000
END:STANDARD
END:VTIMEZONE
BEGIN:VEVENT
DTSTART;TZID=America/New_York:20241016T090000
DTEND;TZID=America/New_York:20241018T170000
DTSTAMP:20260425T190129
CREATED:20240723T143813Z
LAST-MODIFIED:20241219T211249Z
UID:10000574-1729069200-1729270800@www.antisyphontraining.com
SUMMARY:Practical Physical Exploitation with Ralph May and Travis Weathers
DESCRIPTION:
URL:https://www.antisyphontraining.com/event/practical-physical-exploitation-with-ralph-may/
LOCATION:Tampa\, FL\, Tampa\, Florida\, United States
CATEGORIES:Pentesting,Physical Pentesting,Red Team
ORGANIZER;CN="Antisyphon Training":MAILTO:support@antisyphontraining.com
END:VEVENT
END:VCALENDAR