BEGIN:VCALENDAR
VERSION:2.0
PRODID:-//Antisyphon Training - ECPv6.15.20//NONSGML v1.0//EN
CALSCALE:GREGORIAN
METHOD:PUBLISH
X-WR-CALNAME:Antisyphon Training
X-ORIGINAL-URL:https://www.antisyphontraining.com
X-WR-CALDESC:Events for Antisyphon Training
REFRESH-INTERVAL;VALUE=DURATION:PT1H
X-Robots-Tag:noindex
X-PUBLISHED-TTL:PT1H
BEGIN:VTIMEZONE
TZID:America/Denver
BEGIN:DAYLIGHT
TZOFFSETFROM:-0700
TZOFFSETTO:-0600
TZNAME:MDT
DTSTART:20230312T090000
END:DAYLIGHT
BEGIN:STANDARD
TZOFFSETFROM:-0600
TZOFFSETTO:-0700
TZNAME:MST
DTSTART:20231105T080000
END:STANDARD
BEGIN:DAYLIGHT
TZOFFSETFROM:-0700
TZOFFSETTO:-0600
TZNAME:MDT
DTSTART:20240310T090000
END:DAYLIGHT
BEGIN:STANDARD
TZOFFSETFROM:-0600
TZOFFSETTO:-0700
TZNAME:MST
DTSTART:20241103T080000
END:STANDARD
BEGIN:DAYLIGHT
TZOFFSETFROM:-0700
TZOFFSETTO:-0600
TZNAME:MDT
DTSTART:20250309T090000
END:DAYLIGHT
BEGIN:STANDARD
TZOFFSETFROM:-0600
TZOFFSETTO:-0700
TZNAME:MST
DTSTART:20251102T080000
END:STANDARD
END:VTIMEZONE
BEGIN:VEVENT
DTSTART;TZID=America/Denver:20241008T083000
DTEND;TZID=America/Denver:20241011T180000
DTSTAMP:20260425T185741
CREATED:20240726T202934Z
LAST-MODIFIED:20240824T000539Z
UID:10000576-1728376200-1728669600@www.antisyphontraining.com
SUMMARY:Wild West Hackin' Fest 2024
DESCRIPTION:Conference: \n\n\n\n\n\n\n\n\n\n\n\nPre-conference Training: \n\n\n\n\n\nOctober 8\, 2024 @ 8:30 AM MDT – October 9\, 2024 @ 5:00 PM MDT \n\n\n\n\n\n\nRegister For WWHF 2024 Here\n\n\n\n\n\n\n\n\n\n\nWild West Hackin’ Fest is different from most cybersecurity conferences you have heard of or attended. For one thing\, WWHF is held in Deadwood\, South Dakota. Deadwood is a small tourist town with a long and colorful history. In fact\, the entire town is a National Historic Landmark with roots going back to 1876\, when outlaws\, gamblers and gunslingers like Wild Bill Hickok\, Calamity Jane\, and Poker Alice came to town looking for gold and a good time. \n\n\n\n\n\nPre-conference Training\n\n\nNo courses found in this query
URL:https://www.antisyphontraining.com/event/wild-west-hackin-fest-2024/
CATEGORIES:Conference
ATTACH;FMTTYPE=image/webp:https://www.antisyphontraining.com/wp-content/uploads/2024/07/registration-open1-960x540-1.webp
END:VEVENT
END:VCALENDAR